BEGIN:VCALENDAR
VERSION:2.0
PRODID:-// - ECPv6.15.20//NONSGML v1.0//EN
CALSCALE:GREGORIAN
METHOD:PUBLISH
X-ORIGINAL-URL:https://bogenparcours-hohenlohe.de
X-WR-CALDESC:Veranstaltungen für 
REFRESH-INTERVAL;VALUE=DURATION:PT1H
X-Robots-Tag:noindex
X-PUBLISHED-TTL:PT1H
BEGIN:VTIMEZONE
TZID:Europe/Berlin
BEGIN:DAYLIGHT
TZOFFSETFROM:+0100
TZOFFSETTO:+0200
TZNAME:CEST
DTSTART:20230326T010000
END:DAYLIGHT
BEGIN:STANDARD
TZOFFSETFROM:+0200
TZOFFSETTO:+0100
TZNAME:CET
DTSTART:20231029T010000
END:STANDARD
BEGIN:DAYLIGHT
TZOFFSETFROM:+0100
TZOFFSETTO:+0200
TZNAME:CEST
DTSTART:20240331T010000
END:DAYLIGHT
BEGIN:STANDARD
TZOFFSETFROM:+0200
TZOFFSETTO:+0100
TZNAME:CET
DTSTART:20241027T010000
END:STANDARD
BEGIN:DAYLIGHT
TZOFFSETFROM:+0100
TZOFFSETTO:+0200
TZNAME:CEST
DTSTART:20250330T010000
END:DAYLIGHT
BEGIN:STANDARD
TZOFFSETFROM:+0200
TZOFFSETTO:+0100
TZNAME:CET
DTSTART:20251026T010000
END:STANDARD
END:VTIMEZONE
BEGIN:VEVENT
DTSTART;VALUE=DATE:20240406
DTEND;VALUE=DATE:20240408
DTSTAMP:20260421T112546
CREATED:20231228T223229Z
LAST-MODIFIED:20231231T104916Z
UID:2376-1712361600-1712534399@bogenparcours-hohenlohe.de
SUMMARY:12. OX-BoW Bogensportmesse 2024
DESCRIPTION:Weitere Informationen folgen!
URL:https://bogenparcours-hohenlohe.de/event/12-ox-bow-bogensportmesse-2024/
LOCATION:Burg Stettenfels\, Burg Stettenfels 4\, Untergruppenbach\, BW\, 74199\, Deutschland
END:VEVENT
BEGIN:VEVENT
DTSTART;TZID=Europe/Berlin:20240414T090000
DTEND;TZID=Europe/Berlin:20240414T163000
DTSTAMP:20260421T112546
CREATED:20231228T221958Z
LAST-MODIFIED:20240205T104324Z
UID:2358-1713085200-1713112200@bogenparcours-hohenlohe.de
SUMMARY:Basis Kurs "Traditionelles\, intuitives Bogenschießen" - AUSGEBUCHT
DESCRIPTION:Pfeil_1
URL:https://bogenparcours-hohenlohe.de/event/basis-kurs-traditionelles-intuitives-bogenschiessen-14/
LOCATION:Traditioneller Bogenparcours Hohenlohe\, Im Fels 11\, Ingelfingen\, BW\, 74653
ORGANIZER;CN="Traditioneller Bogenparcours Hohenlohe":MAILTO:info@vph-mugler.de
END:VEVENT
BEGIN:VEVENT
DTSTART;TZID=Europe/Berlin:20240420T080000
DTEND;TZID=Europe/Berlin:20240421T160000
DTSTAMP:20260421T112546
CREATED:20231228T223559Z
LAST-MODIFIED:20231228T223856Z
UID:2378-1713600000-1713715200@bogenparcours-hohenlohe.de
SUMMARY:Turnier "HÄGAR - DER SCHRECKLICHE"
DESCRIPTION:Ausschreibung-Haegar-April24
URL:https://bogenparcours-hohenlohe.de/event/turnier-haegar-der-schreckliche/
LOCATION:Traditioneller Bogenparcours Hohenlohe\, Im Fels 11\, Ingelfingen\, BW\, 74653
ORGANIZER;CN="Traditioneller Bogenparcours Hohenlohe":MAILTO:info@vph-mugler.de
END:VEVENT
END:VCALENDAR