BEGIN:VCALENDAR
VERSION:2.0
PRODID:-// - ECPv6.15.20//NONSGML v1.0//EN
CALSCALE:GREGORIAN
METHOD:PUBLISH
X-ORIGINAL-URL:https://bogenparcours-hohenlohe.de
X-WR-CALDESC:Veranstaltungen für 
REFRESH-INTERVAL;VALUE=DURATION:PT1H
X-Robots-Tag:noindex
X-PUBLISHED-TTL:PT1H
BEGIN:VTIMEZONE
TZID:Europe/Berlin
BEGIN:DAYLIGHT
TZOFFSETFROM:+0100
TZOFFSETTO:+0200
TZNAME:CEST
DTSTART:20190331T010000
END:DAYLIGHT
BEGIN:STANDARD
TZOFFSETFROM:+0200
TZOFFSETTO:+0100
TZNAME:CET
DTSTART:20191027T010000
END:STANDARD
BEGIN:DAYLIGHT
TZOFFSETFROM:+0100
TZOFFSETTO:+0200
TZNAME:CEST
DTSTART:20200329T010000
END:DAYLIGHT
BEGIN:STANDARD
TZOFFSETFROM:+0200
TZOFFSETTO:+0100
TZNAME:CET
DTSTART:20201025T010000
END:STANDARD
BEGIN:DAYLIGHT
TZOFFSETFROM:+0100
TZOFFSETTO:+0200
TZNAME:CEST
DTSTART:20210328T010000
END:DAYLIGHT
BEGIN:STANDARD
TZOFFSETFROM:+0200
TZOFFSETTO:+0100
TZNAME:CET
DTSTART:20211031T010000
END:STANDARD
END:VTIMEZONE
BEGIN:VEVENT
DTSTART;TZID=Europe/Berlin:20200328T090000
DTEND;TZID=Europe/Berlin:20200328T230000
DTSTAMP:20260424T071320
CREATED:20200203T184703Z
LAST-MODIFIED:20200203T185927Z
UID:118-1585386000-1585436400@bogenparcours-hohenlohe.de
SUMMARY:HÄGAR Saisonstart 2020
DESCRIPTION:Saisonstart 2020am Samstag den 28.03.2020 Warmschießen/Einschreiben ab 9:00Uhr Start des Turniers 10:00 Uhr \n >>>> Download Einladung_Haeger <<<<
URL:https://bogenparcours-hohenlohe.de/event/haegar-saisonstart-2020/
LOCATION:Traditioneller Bogenparcours Hohenlohe\, Im Fels 11\, Ingelfingen\, BW\, 74653
ORGANIZER;CN="Traditioneller Bogenparcours Hohenlohe":MAILTO:info@vph-mugler.de
END:VEVENT
END:VCALENDAR